BEGIN:VCALENDAR
VERSION:2.0
PRODID:-//ChamberMaster//Event Calendar 2.0//EN
METHOD:PUBLISH
X-PUBLISHED-TTL:P3D
REFRESH-INTERVAL:P3D
CALSCALE:GREGORIAN
BEGIN:VEVENT
DTSTART:20110924T130000Z
DTEND:20110924T220000Z
X-MICROSOFT-CDO-ALLDAYEVENT:FALSE
SUMMARY:2011 Sting Fling
DESCRIPTION:2011 Sting Fling
X-ALT-DESC;FMTTYPE=text/html:2011 Sting Fling 
LOCATION:
UID:e.2551.55
SEQUENCE:3
DTSTAMP:20260422T204151Z
URL:http://azlechambertx.chambermaster.com/events/details/2011-sting-fling-09-24-2011-55
END:VEVENT

END:VCALENDAR
