BEGIN:VCALENDAR
VERSION:2.0
PRODID:-//ChamberMaster//Event Calendar 2.0//EN
METHOD:PUBLISH
X-PUBLISHED-TTL:P3D
REFRESH-INTERVAL:P3D
CALSCALE:GREGORIAN
BEGIN:VEVENT
DTSTART:20111105T130000Z
DTEND:20111105T220000Z
X-MICROSOFT-CDO-ALLDAYEVENT:FALSE
SUMMARY:After Five Texas Style
DESCRIPTION:After Five Texas Style
X-ALT-DESC;FMTTYPE=text/html:After Five Texas Style
LOCATION:
UID:e.2551.72
SEQUENCE:3
DTSTAMP:20260421T185159Z
URL:http://azlechambertx.chambermaster.com/events/details/after-five-texas-style-11-05-2011-72
END:VEVENT

END:VCALENDAR
